BEGIN:VCALENDAR
VERSION:2.0
PRODID:-//www.gramonet.cz//GramonetCalLib 1.0//EN
CALSCALE:GREGORIAN
METHOD:PUBLISH
BEGIN:VEVENT
SUMMARY:Cesty písně krajinou duše
LOCATION:Gymnázium a Střední odborná škola pedagogická Čáslav, Masa
 rykova 248/24
DTSTART:20220518T000000
DTEND:20220519T000000
UID:2026-04-19-19-35-42@infocaslav.cz
DTSTAMP:20260419T173542
Description:
END:VEVENT
END:VCALENDAR
