BEGIN:VCALENDAR
VERSION:2.0
PRODID:-//www.gramonet.cz//GramonetCalLib 1.0//EN
CALSCALE:GREGORIAN
METHOD:PUBLISH
BEGIN:VEVENT
SUMMARY:Charitativní bazárek
LOCATION:Rodinné centrum Kopretina Čáslav
DTSTART:20241007T000000
DTEND:20241009T000000
UID:2026-04-19-19-33-54@infocaslav.cz
DTSTAMP:20260419T173354
Description:Charitativní bazárek dětského oblečení\, hraček a potře
 b pro děti se uskuteční 7. -8. října 2024 od 8-16hod.
END:VEVENT
END:VCALENDAR
