BEGIN:VCALENDAR
VERSION:2.0
PRODID:-//www.gramonet.cz//GramonetCalLib 1.0//EN
CALSCALE:GREGORIAN
METHOD:PUBLISH
BEGIN:VEVENT
SUMMARY:Charitativní utkání FK Čáslav vs Šmicer team
LOCATION:Zimní stadion Čáslav
DTSTART:20260103T000000
DTEND:20260104T000000
UID:2026-04-19-19-28-06@infocaslav.cz
DTSTAMP:20260419T172806
Description:
END:VEVENT
END:VCALENDAR
