BEGIN:VCALENDAR
VERSION:2.0
PRODID:-//www.gramonet.cz//GramonetCalLib 1.0//EN
CALSCALE:GREGORIAN
METHOD:PUBLISH
BEGIN:VEVENT
SUMMARY:ÄŒistÃ­me kutnohorskÃ© Stolpersteine
LOCATION:
DTSTART:20220127T000000
DTEND:20220128T000000
UID:2026-04-19-19-36-22@infocaslav.cz
DTSTAMP:20260419T173622
Description:Co je cÃ­lem akce?\nCÃ­lem akce je tedy jednak pÅ™ipomenout veÅ
 ™ejnosti smysl\, za kterÃ½m jsou v KutnÃ© HoÅ™e a v ÄŒÃ¡slavi Stolperstein
 e umÃ­stÄ›ny\, ale takÃ© dÃ¡t Å¡irokÃ© veÅ™ejnosti nÃ¡vod k tomu\, jak moh
 ou pÅ™ispÄ›t k jejich ÃºdrÅ¾bÄ› a zachovÃ¡nÃ­ ve stavu\, kdy budou dÅ¯stoj
 nou pÅ™ipomÃ­nkou osob\, na jejichÅ¾ pamÃ¡tku byly instalovÃ¡ny.
END:VEVENT
END:VCALENDAR
