BEGIN:VCALENDAR
VERSION:2.0
PRODID:-//www.gramonet.cz//GramonetCalLib 1.0//EN
CALSCALE:GREGORIAN
METHOD:PUBLISH
BEGIN:VEVENT
SUMMARY:Cocotte Minute & Vojtaano
LOCATION:Hotel Grand Čáslav
DTSTART:20250322T000000
DTEND:20250323T000000
UID:2026-04-19-19-34-02@infocaslav.cz
DTSTAMP:20260419T173402
Description:
END:VEVENT
END:VCALENDAR
