BEGIN:VCALENDAR
VERSION:2.0
PRODID:-//www.gramonet.cz//GramonetCalLib 1.0//EN
CALSCALE:GREGORIAN
METHOD:PUBLISH
BEGIN:VEVENT
SUMMARY:Comedy & Beat - dětské odpoledne
LOCATION:Gumárna
DTSTART:20221009T000000
DTEND:20221010T000000
UID:2026-04-19-19-33-06@infocaslav.cz
DTSTAMP:20260419T173306
Description:
END:VEVENT
END:VCALENDAR
