BEGIN:VCALENDAR
VERSION:2.0
PRODID:-//www.gramonet.cz//GramonetCalLib 1.0//EN
CALSCALE:GREGORIAN
METHOD:PUBLISH
BEGIN:VEVENT
SUMMARY:Country půlení léta
LOCATION:V areálu Rujna u řeky v Ledči nad Sázavou
DTSTART:20240727T000000
DTEND:20240728T000000
UID:2026-04-19-19-32-42@infocaslav.cz
DTSTAMP:20260419T173242
Description:Akce se koná 27. 07. 2024 od 13 :00 v areálu Rujna u řeky v 
 Ledči nad Sázavou. Cena vstupenek\, dospělí 250 Kč a děti do 15 let 
 100 Kč.
END:VEVENT
END:VCALENDAR
