BEGIN:VCALENDAR
VERSION:2.0
PRODID:-//www.gramonet.cz//GramonetCalLib 1.0//EN
CALSCALE:GREGORIAN
METHOD:PUBLISH
BEGIN:VEVENT
SUMMARY:Crow
LOCATION:Hotel Grand Čáslav
DTSTART:20260313T000000
DTEND:20260314T000000
UID:2026-04-19-19-26-26@infocaslav.cz
DTSTAMP:20260419T172626
Description:
END:VEVENT
END:VCALENDAR
