BEGIN:VCALENDAR
VERSION:2.0
PRODID:-//www.gramonet.cz//GramonetCalLib 1.0//EN
CALSCALE:GREGORIAN
METHOD:PUBLISH
BEGIN:VEVENT
SUMMARY:Čtenářská štafeta se spisovatelkou Janou Šrámkovou
LOCATION:dvůr Gymnázia a SOŠPg Čáslav
DTSTART:20240915T000000
DTEND:20240916T000000
UID:2026-04-19-21-08-34@infocaslav.cz
DTSTAMP:20260419T190834
Description:Přijďte číst po boku nositelky Ceny Magnesia Litera za lite
 raturu pro děti a mládež!\nV neděli 15. září od 13.30 na dvoře Gym
 názia a SOŠPg v rámci festivalu Dvorky!2024
END:VEVENT
END:VCALENDAR
