BEGIN:VCALENDAR
VERSION:2.0
PRODID:-//www.gramonet.cz//GramonetCalLib 1.0//EN
CALSCALE:GREGORIAN
METHOD:PUBLISH
BEGIN:VEVENT
SUMMARY:Čtení na polštářích
LOCATION:RC Kopretina
DTSTART:20220119T000000
DTEND:20220120T000000
UID:2026-04-19-21-05-32@infocaslav.cz
DTSTAMP:20260419T190532
Description:
END:VEVENT
END:VCALENDAR
