BEGIN:VCALENDAR
VERSION:2.0
PRODID:-//www.gramonet.cz//GramonetCalLib 1.0//EN
CALSCALE:GREGORIAN
METHOD:PUBLISH
BEGIN:VEVENT
SUMMARY:Čwachták fest 2024
LOCATION:koupaliště Třemošnice
DTSTART:20240719T000000
DTEND:20240721T000000
UID:2026-04-19-19-26-39@infocaslav.cz
DTSTAMP:20260419T172639
Description:Letošní 11. ročník letního festivalu začíná již v pát
 ek večer.
END:VEVENT
END:VCALENDAR
