BEGIN:VCALENDAR
VERSION:2.0
PRODID:-//www.gramonet.cz//GramonetCalLib 1.0//EN
CALSCALE:GREGORIAN
METHOD:PUBLISH
BEGIN:VEVENT
SUMMARY:Čwachták FEST
LOCATION:Sportovní areál Třemošnice  Internátní
DTSTART:20220723T000000
DTEND:20220724T000000
UID:2026-04-19-19-31-08@infocaslav.cz
DTSTAMP:20260419T173108
Description:
END:VEVENT
END:VCALENDAR
