BEGIN:VCALENDAR
VERSION:2.0
PRODID:-//www.gramonet.cz//GramonetCalLib 1.0//EN
CALSCALE:GREGORIAN
METHOD:PUBLISH
BEGIN:VEVENT
SUMMARY:Darujte krabici od bot
LOCATION:Evangelické Fara Čáslav, ulice Jana Karafiáta 159
DTSTART:20241124T000000
DTEND:20241202T000000
UID:2026-04-19-19-34-27@infocaslav.cz
DTSTAMP:20260419T173427
Description:
END:VEVENT
END:VCALENDAR
