BEGIN:VCALENDAR
VERSION:2.0
PRODID:-//www.gramonet.cz//GramonetCalLib 1.0//EN
CALSCALE:GREGORIAN
METHOD:PUBLISH
BEGIN:VEVENT
SUMMARY:DC Liga supermazlíčků
LOCATION:Kino Miloše Formana, Jeníkovská 138/25, 28601
DTSTART:20220729T000000
DTEND:20220731T000000
UID:2026-04-19-19-33-59@infocaslav.cz
DTSTAMP:20260419T173359
Description:
END:VEVENT
END:VCALENDAR
