BEGIN:VCALENDAR
VERSION:2.0
PRODID:-//www.gramonet.cz//GramonetCalLib 1.0//EN
CALSCALE:GREGORIAN
METHOD:PUBLISH
BEGIN:VEVENT
SUMMARY:DDM - Keramické odpoledne
LOCATION:Dům dětí a mládeže Čáslav
DTSTART:20240412T000000
DTEND:20240413T000000
UID:2026-04-19-19-30-52@infocaslav.cz
DTSTAMP:20260419T173052
Description:
END:VEVENT
END:VCALENDAR
