BEGIN:VCALENDAR
VERSION:2.0
PRODID:-//www.gramonet.cz//GramonetCalLib 1.0//EN
CALSCALE:GREGORIAN
METHOD:PUBLISH
BEGIN:VEVENT
SUMMARY:DDM - Nedělní tvoření - sítotisk
LOCATION:DDM Čáslav
DTSTART:20240428T000000
DTEND:20240429T000000
UID:2026-04-19-19-36-08@infocaslav.cz
DTSTAMP:20260419T173608
Description:
END:VEVENT
END:VCALENDAR
