BEGIN:VCALENDAR
VERSION:2.0
PRODID:-//www.gramonet.cz//GramonetCalLib 1.0//EN
CALSCALE:GREGORIAN
METHOD:PUBLISH
BEGIN:VEVENT
SUMMARY:Den Architektury
LOCATION:Čáslav
DTSTART:20251002T000000
DTEND:20251008T000000
UID:2026-04-19-20-57-33@infocaslav.cz
DTSTAMP:20260419T185733
Description:
END:VEVENT
END:VCALENDAR
