BEGIN:VCALENDAR
VERSION:2.0
PRODID:-//www.gramonet.cz//GramonetCalLib 1.0//EN
CALSCALE:GREGORIAN
METHOD:PUBLISH
BEGIN:VEVENT
SUMMARY:Den bezpečnosti
LOCATION:Národní zemědělské muzeum Čáslav Muzeum Jeníkovská 1762, 
 286 01 Čáslav-Nové Město, Česko
DTSTART:20220421T000000
DTEND:20220423T000000
UID:2026-04-19-19-30-56@infocaslav.cz
DTSTAMP:20260419T173056
Description:
END:VEVENT
END:VCALENDAR
