BEGIN:VCALENDAR
VERSION:2.0
PRODID:-//www.gramonet.cz//GramonetCalLib 1.0//EN
CALSCALE:GREGORIAN
METHOD:PUBLISH
BEGIN:VEVENT
SUMMARY:Den dětí DDM - Pohádkový les
LOCATION:Vodranty
DTSTART:20250601T000000
DTEND:20250602T000000
UID:2026-04-19-19-34-35@infocaslav.cz
DTSTAMP:20260419T173435
Description:DDM Čáslav připravil ke Dni dětí - neděle 1.6. 2025 od 14
  do 17 hodin již tradiční Pohádkový les v Lesoparku Vodranty.\nZačá
 tek trasy - Městské lázně Čáslav - rybník Zemánek.
END:VEVENT
END:VCALENDAR
