BEGIN:VCALENDAR
VERSION:2.0
PRODID:-//www.gramonet.cz//GramonetCalLib 1.0//EN
CALSCALE:GREGORIAN
METHOD:PUBLISH
BEGIN:VEVENT
SUMMARY:Den dětí na Kolínské řepařské drážce
LOCATION:Kolínská řepařská drážka
DTSTART:20240525T000000
DTEND:20240527T000000
UID:2026-04-19-19-36-15@infocaslav.cz
DTSTAMP:20260419T173615
Description:
END:VEVENT
END:VCALENDAR
