BEGIN:VCALENDAR
VERSION:2.0
PRODID:-//www.gramonet.cz//GramonetCalLib 1.0//EN
CALSCALE:GREGORIAN
METHOD:PUBLISH
BEGIN:VEVENT
SUMMARY:Den dětí v Íčku
LOCATION:Informační středisko Čáslav, Kostelní náměstí 197/11
DTSTART:20220601T000000
DTEND:20220602T000000
UID:2026-04-19-19-29-22@infocaslav.cz
DTSTAMP:20260419T172922
Description:
END:VEVENT
END:VCALENDAR
