BEGIN:VCALENDAR
VERSION:2.0
PRODID:-//www.gramonet.cz//GramonetCalLib 1.0//EN
CALSCALE:GREGORIAN
METHOD:PUBLISH
BEGIN:VEVENT
SUMMARY:Den Integrovaného záchranného systému
LOCATION:Městská nemocnice Čáslav
DTSTART:20250620T000000
DTEND:20250621T000000
UID:2026-04-19-21-06-08@infocaslav.cz
DTSTAMP:20260419T190608
Description:
END:VEVENT
END:VCALENDAR
