BEGIN:VCALENDAR
VERSION:2.0
PRODID:-//www.gramonet.cz//GramonetCalLib 1.0//EN
CALSCALE:GREGORIAN
METHOD:PUBLISH
BEGIN:VEVENT
SUMMARY:Den otevřeného depozitáře
LOCATION:Národní zemědělské muzeum Čáslav Muzeum Jeníkovská 1762, 
 286 01 Čáslav-Nové Město, Česko
DTSTART:20220515T000000
DTEND:20220516T000000
UID:2026-04-19-19-33-02@infocaslav.cz
DTSTAMP:20260419T173302
Description:
END:VEVENT
END:VCALENDAR
