BEGIN:VCALENDAR
VERSION:2.0
PRODID:-//www.gramonet.cz//GramonetCalLib 1.0//EN
CALSCALE:GREGORIAN
METHOD:PUBLISH
BEGIN:VEVENT
SUMMARY:Den otevřených dvěří
LOCATION:Městská nemocnice Čáslav
DTSTART:20230925T000000
DTEND:20230926T000000
UID:2026-04-19-19-34-26@infocaslav.cz
DTSTAMP:20260419T173426
Description:Dne 25.9.2023 nabídne Městská nemocnice Čáslav nejen svým
  pacientům\, ale také bývalým či snad i budoucím kolegům a spolupra
 covníkům možnost nahlédnout do prostor\, které jsou v jiných dnech p
 řed zraky veřejnosti uzavřeny.
END:VEVENT
END:VCALENDAR
