BEGIN:VCALENDAR
VERSION:2.0
PRODID:-//www.gramonet.cz//GramonetCalLib 1.0//EN
CALSCALE:GREGORIAN
METHOD:PUBLISH
BEGIN:VEVENT
SUMMARY:Den otevřených dveří -  ARRIVA autobusy a.s.
LOCATION:Pod Nádražím 1204, Čáslav
DTSTART:20250531T000000
DTEND:20250601T000000
UID:2026-04-19-21-07-58@infocaslav.cz
DTSTAMP:20260419T190758
Description:
END:VEVENT
END:VCALENDAR
