BEGIN:VCALENDAR
VERSION:2.0
PRODID:-//www.gramonet.cz//GramonetCalLib 1.0//EN
CALSCALE:GREGORIAN
METHOD:PUBLISH
BEGIN:VEVENT
SUMMARY:Den otevřených dveří Diakonie
LOCATION:Kutná Hora
DTSTART:20230627T000000
DTEND:20230628T000000
UID:2026-04-19-19-36-17@infocaslav.cz
DTSTAMP:20260419T173617
Description:
END:VEVENT
END:VCALENDAR
