BEGIN:VCALENDAR
VERSION:2.0
PRODID:-//www.gramonet.cz//GramonetCalLib 1.0//EN
CALSCALE:GREGORIAN
METHOD:PUBLISH
BEGIN:VEVENT
SUMMARY:Den otevřených dveří Městské nemocnice Čáslav
LOCATION:Městská nemocnice Čáslav
DTSTART:20250925T000000
DTEND:20250926T000000
UID:2026-04-19-21-17-47@infocaslav.cz
DTSTAMP:20260419T191747
Description:
END:VEVENT
END:VCALENDAR
