BEGIN:VCALENDAR
VERSION:2.0
PRODID:-//www.gramonet.cz//GramonetCalLib 1.0//EN
CALSCALE:GREGORIAN
METHOD:PUBLISH
BEGIN:VEVENT
SUMMARY:Den otevřených dveří na Centrální hasičské stanici
LOCATION:Kutná hora
DTSTART:20240507T000000
DTEND:20240508T000000
UID:2026-04-19-21-08-34@infocaslav.cz
DTSTAMP:20260419T190834
Description:Den otevřených dveří se na CHS Kutná Hora koná tradičně
  u příležitosti svátku patrona hasičů svatého Floriána. Pro návš
 těvníky jsou připraveny ucelené bloky statických a dynamických ukáz
 ek činnosti profesionálních hasičů a dalších složek IZS. Dynamick
  ukázky činnosti budou probíhat v době od 9.00 do 10.30 hodin a od 15
 .30 do 17.00 hodin. V rámci akce bude vyhlášena výtvarná soutěž „
 Hasiči očima dětí“.
END:VEVENT
END:VCALENDAR
