BEGIN:VCALENDAR
VERSION:2.0
PRODID:-//www.gramonet.cz//GramonetCalLib 1.0//EN
CALSCALE:GREGORIAN
METHOD:PUBLISH
BEGIN:VEVENT
SUMMARY:Den otevřených dveří VD Pařížov
LOCATION:VD Pařížov
DTSTART:20240413T000000
DTEND:20240414T000000
UID:2026-04-19-21-20-48@infocaslav.cz
DTSTAMP:20260419T192048
Description:
END:VEVENT
END:VCALENDAR
