BEGIN:VCALENDAR
VERSION:2.0
PRODID:-//www.gramonet.cz//GramonetCalLib 1.0//EN
CALSCALE:GREGORIAN
METHOD:PUBLISH
BEGIN:VEVENT
SUMMARY:Den otevřených dveří na VOŠ, SPŠ a OA Čáslav
LOCATION:VOŠ, SPŠ a OA Čáslav
DTSTART:20241109T000000
DTEND:20241110T000000
UID:2026-04-19-21-08-36@infocaslav.cz
DTSTAMP:20260419T190836
Description:
END:VEVENT
END:VCALENDAR
