BEGIN:VCALENDAR
VERSION:2.0
PRODID:-//www.gramonet.cz//GramonetCalLib 1.0//EN
CALSCALE:GREGORIAN
METHOD:PUBLISH
BEGIN:VEVENT
SUMMARY:Den otevřených dveří
LOCATION:VOŠ, SPŠ a OA Čáslav Přemysla Otakara II. 938
DTSTART:20220119T000000
DTEND:20220120T000000
UID:2026-04-19-20-58-39@infocaslav.cz
DTSTAMP:20260419T185839
Description:
END:VEVENT
END:VCALENDAR
