BEGIN:VCALENDAR
VERSION:2.0
PRODID:-//www.gramonet.cz//GramonetCalLib 1.0//EN
CALSCALE:GREGORIAN
METHOD:PUBLISH
BEGIN:VEVENT
SUMMARY:Den pro dětskou knihu
LOCATION:Knihovna městského muzea Čáslav
DTSTART:20251129T000000
DTEND:20251130T000000
UID:2026-04-19-19-32-41@infocaslav.cz
DTSTAMP:20260419T173241
Description:
END:VEVENT
END:VCALENDAR
