BEGIN:VCALENDAR
VERSION:2.0
PRODID:-//www.gramonet.cz//GramonetCalLib 1.0//EN
CALSCALE:GREGORIAN
METHOD:PUBLISH
BEGIN:VEVENT
SUMMARY:Den pro dětskou knihu
LOCATION:Knihovna na Kostelním náměstí
DTSTART:20211127T000000
DTEND:20211128T000000
UID:2026-04-19-19-29-36@infocaslav.cz
DTSTAMP:20260419T172936
Description:
END:VEVENT
END:VCALENDAR
