BEGIN:VCALENDAR
VERSION:2.0
PRODID:-//www.gramonet.cz//GramonetCalLib 1.0//EN
CALSCALE:GREGORIAN
METHOD:PUBLISH
BEGIN:VEVENT
SUMMARY:Den průvodců v synagoze v Čáslavi
LOCATION:Synagoga Čáslav
DTSTART:20240224T000000
DTEND:20240225T000000
UID:2026-04-19-19-32-04@infocaslav.cz
DTSTAMP:20260419T173204
Description:
END:VEVENT
END:VCALENDAR
