BEGIN:VCALENDAR
VERSION:2.0
PRODID:-//www.gramonet.cz//GramonetCalLib 1.0//EN
CALSCALE:GREGORIAN
METHOD:PUBLISH
BEGIN:VEVENT
SUMMARY:Den světového diabetu
LOCATION:Nám. J. Ž. z Trocnova, Čáslav
DTSTART:20251113T000000
DTEND:20251114T000000
UID:2026-04-19-19-35-54@infocaslav.cz
DTSTAMP:20260419T173554
Description:
END:VEVENT
END:VCALENDAR
