BEGIN:VCALENDAR
VERSION:2.0
PRODID:-//www.gramonet.cz//GramonetCalLib 1.0//EN
CALSCALE:GREGORIAN
METHOD:PUBLISH
BEGIN:VEVENT
SUMMARY:Den země v muzeu
LOCATION:Městské muzeum Čáslav
DTSTART:20260422T000000
DTEND:20260423T000000
UID:2026-04-19-19-26-37@infocaslav.cz
DTSTAMP:20260419T172637
Description:
END:VEVENT
END:VCALENDAR
