BEGIN:VCALENDAR
VERSION:2.0
PRODID:-//www.gramonet.cz//GramonetCalLib 1.0//EN
CALSCALE:GREGORIAN
METHOD:PUBLISH
BEGIN:VEVENT
SUMMARY:Dernisáž a aukce fotografií Richarda Klaila - Ostrovy
LOCATION:Synagoga v Čáslavi
DTSTART:20250420T000000
DTEND:20250421T000000
UID:2026-04-19-19-37-21@infocaslav.cz
DTSTAMP:20260419T173721
Description:
END:VEVENT
END:VCALENDAR
