BEGIN:VCALENDAR
VERSION:2.0
PRODID:-//www.gramonet.cz//GramonetCalLib 1.0//EN
CALSCALE:GREGORIAN
METHOD:PUBLISH
BEGIN:VEVENT
SUMMARY:Deskové hraní
LOCATION:Rodinné centrum Kopretina Čáslav
DTSTART:20250619T000000
DTEND:20250620T000000
UID:2026-04-19-19-30-48@infocaslav.cz
DTSTAMP:20260419T173048
Description:
END:VEVENT
END:VCALENDAR
