BEGIN:VCALENDAR
VERSION:2.0
PRODID:-//www.gramonet.cz//GramonetCalLib 1.0//EN
CALSCALE:GREGORIAN
METHOD:PUBLISH
BEGIN:VEVENT
SUMMARY:DEŠTIVÉ DNY
LOCATION:Dusíkovo divadlo
DTSTART:20230117T000000
DTEND:20230118T000000
UID:2026-04-19-21-02-22@infocaslav.cz
DTSTAMP:20260419T190222
Description:
END:VEVENT
END:VCALENDAR
