BEGIN:VCALENDAR
VERSION:2.0
PRODID:-//www.gramonet.cz//GramonetCalLib 1.0//EN
CALSCALE:GREGORIAN
METHOD:PUBLISH
BEGIN:VEVENT
SUMMARY:Děti Nagana
LOCATION:Kino
DTSTART:20230223T000000
DTEND:20230225T000000
UID:2026-04-19-19-31-29@infocaslav.cz
DTSTAMP:20260419T173129
Description:
END:VEVENT
END:VCALENDAR
