BEGIN:VCALENDAR
VERSION:2.0
PRODID:-//www.gramonet.cz//GramonetCalLib 1.0//EN
CALSCALE:GREGORIAN
METHOD:PUBLISH
BEGIN:VEVENT
SUMMARY:Dětská čtenářská výzva 2024
LOCATION:Knihovna Čáslav
DTSTART:20240221T000000
DTEND:20241116T000000
UID:2026-04-19-19-36-00@infocaslav.cz
DTSTAMP:20260419T173600
Description:
END:VEVENT
END:VCALENDAR
