BEGIN:VCALENDAR
VERSION:2.0
PRODID:-//www.gramonet.cz//GramonetCalLib 1.0//EN
CALSCALE:GREGORIAN
METHOD:PUBLISH
BEGIN:VEVENT
SUMMARY:Dětské rybářské závody na Podměstském rybníku
LOCATION:Podměstský rybník v Čáslavi
DTSTART:20240526T000000
DTEND:20240527T000000
UID:2026-04-19-19-37-28@infocaslav.cz
DTSTAMP:20260419T173728
Description:
END:VEVENT
END:VCALENDAR
