BEGIN:VCALENDAR
VERSION:2.0
PRODID:-//www.gramonet.cz//GramonetCalLib 1.0//EN
CALSCALE:GREGORIAN
METHOD:PUBLISH
BEGIN:VEVENT
SUMMARY:Dětské sportovní odpoledne Vinaře 2. ročník
LOCATION:Staré hřiště ve Vinařích
DTSTART:20240928T000000
DTEND:20240929T000000
UID:2026-04-19-21-08-34@infocaslav.cz
DTSTAMP:20260419T190834
Description:Dětské sportovní odpoledne Vinaře 2. ročník se koná v so
 botu 28.09.2024 od 14:00 hod na starém hřišti ve Vinařích. Pro děti 
 připraveno opékání buřtů\, odměny\, tradiční a méně známé spo
 rty a od 19:30 se bude promítat letní kino BARBIE. Přijďte si užit ko
 nec léta.
END:VEVENT
END:VCALENDAR
