BEGIN:VCALENDAR
VERSION:2.0
PRODID:-//www.gramonet.cz//GramonetCalLib 1.0//EN
CALSCALE:GREGORIAN
METHOD:PUBLISH
BEGIN:VEVENT
SUMMARY:Dětský den
LOCATION:Hlízov
DTSTART:20230805T000000
DTEND:20230806T000000
UID:2026-04-19-19-29-15@infocaslav.cz
DTSTAMP:20260419T172915
Description:
END:VEVENT
END:VCALENDAR
