BEGIN:VCALENDAR
VERSION:2.0
PRODID:-//www.gramonet.cz//GramonetCalLib 1.0//EN
CALSCALE:GREGORIAN
METHOD:PUBLISH
BEGIN:VEVENT
SUMMARY:Dětský den
LOCATION:Chotěboř
DTSTART:20240602T000000
DTEND:20240603T000000
UID:2026-04-19-21-02-15@infocaslav.cz
DTSTAMP:20260419T190215
Description:JUNIOR DDM-SVČ Chotěboř pořádá ve spolupráci s SDH Chot
 boř\, CEKUS Chotěboř a Český zahrádkářský svaz Dětský den.\n\n
 Dětský den se uskuteční 28.5.2023 od 10 do 16 hodin „na obecňáku
 .\n\nObčerstvení zajištěno\, vstupné zdarma.
END:VEVENT
END:VCALENDAR
