BEGIN:VCALENDAR
VERSION:2.0
PRODID:-//www.gramonet.cz//GramonetCalLib 1.0//EN
CALSCALE:GREGORIAN
METHOD:PUBLISH
BEGIN:VEVENT
SUMMARY:Dětský den
LOCATION:Jezero Katlov, Zdeslavice 24
DTSTART:20220528T000000
DTEND:20220529T000000
UID:2026-04-19-21-01-19@infocaslav.cz
DTSTAMP:20260419T190119
Description:
END:VEVENT
END:VCALENDAR
