BEGIN:VCALENDAR
VERSION:2.0
PRODID:-//www.gramonet.cz//GramonetCalLib 1.0//EN
CALSCALE:GREGORIAN
METHOD:PUBLISH
BEGIN:VEVENT
SUMMARY:Dětský karneval v Kopretině
LOCATION:Rodinné centrum Kopretina Čáslav
DTSTART:20260212T000000
DTEND:20260213T000000
UID:2026-04-19-19-33-21@infocaslav.cz
DTSTAMP:20260419T173321
Description:
END:VEVENT
END:VCALENDAR
