BEGIN:VCALENDAR
VERSION:2.0
PRODID:-//www.gramonet.cz//GramonetCalLib 1.0//EN
CALSCALE:GREGORIAN
METHOD:PUBLISH
BEGIN:VEVENT
SUMMARY:Dětský karneval
LOCATION:Kulturní dům Třemošnice
DTSTART:20240113T000000
DTEND:20240114T000000
UID:2026-04-19-19-29-45@infocaslav.cz
DTSTAMP:20260419T172945
Description:
END:VEVENT
END:VCALENDAR
