BEGIN:VCALENDAR
VERSION:2.0
PRODID:-//www.gramonet.cz//GramonetCalLib 1.0//EN
CALSCALE:GREGORIAN
METHOD:PUBLISH
BEGIN:VEVENT
SUMMARY:Digiděti - beseda o dětech a technologiích
LOCATION:Gymnázium a SOŠPg Čáslav, aula školy
DTSTART:20240521T000000
DTEND:20240522T000000
UID:2026-04-19-19-34-47@infocaslav.cz
DTSTAMP:20260419T173447
Description:
END:VEVENT
END:VCALENDAR
