BEGIN:VCALENDAR
VERSION:2.0
PRODID:-//www.gramonet.cz//GramonetCalLib 1.0//EN
CALSCALE:GREGORIAN
METHOD:PUBLISH
BEGIN:VEVENT
SUMMARY:Disco 80. a 90. léta v Souňově
LOCATION:Obecní dům Souňov
DTSTART:20260417T000000
DTEND:20260418T000000
UID:2026-04-19-19-26-28@infocaslav.cz
DTSTAMP:20260419T172628
Description:
END:VEVENT
END:VCALENDAR
